BEGIN:VCALENDAR
VERSION:2.0
PRODID:-//Tukios.com/
BEGIN:VEVENT
UID:01543b46-1645-4d43-b337-6be1b016169f@www.andersonandmarshall.com
DTSTAMP:20260420T091204Z
DTSTART:20260417T183000Z
DTEND:20260417T193000Z
SUMMARY:Burial
DESCRIPTION:
URL:https://www.andersonandmarshall.com/obituaries/roosevelt-pye
LOCATION: 7485 Woodland Highway  Woodland GA 31836
GEO:32.7808708;-84.5600915
END:VEVENT
END:VCALENDAR